Package: VanillaICE Version: 1.66.0 Maintainer: Robert Scharpf MaintainerEmail: rscharpf at jhu.edu git_url: https://git.bioconductor.org/packages/VanillaICE git_branch: RELEASE_3_19 git_last_commit: 7ff0406 git_last_commit_date: 2024-04-30 10:17:20 -0400 (Tue, 30 Apr 2024)