Package: VanillaICE Version: 1.66.0 Command: /Library/Frameworks/R.framework/Resources/bin/R CMD build --keep-empty-dirs --no-resave-data VanillaICE StartedAt: 2024-10-17 11:14:52 -0400 (Thu, 17 Oct 2024) EndedAt: 2024-10-17 11:16:20 -0400 (Thu, 17 Oct 2024) EllapsedTime: 87.4 seconds RetCode: 0 Status: OK PackageFile: VanillaICE_1.66.0.tar.gz PackageFileSize: 2.07 MiB