Package: VanillaICE Version: 1.66.0 Command: /Library/Frameworks/R.framework/Resources/bin/R CMD build --keep-empty-dirs --no-resave-data VanillaICE StartedAt: 2024-06-10 06:24:02 -0400 (Mon, 10 Jun 2024) EndedAt: 2024-06-10 06:25:34 -0400 (Mon, 10 Jun 2024) EllapsedTime: 92.2 seconds RetCode: 0 Status: OK PackageFile: VanillaICE_1.66.0.tar.gz PackageFileSize: 2.071 MiB