Package: VanillaICE Version: 1.66.0 Command: /home/biocbuild/bbs-3.19-bioc/R/bin/R CMD check --install=check:VanillaICE.install-out.txt --library=/home/biocbuild/bbs-3.19-bioc/R/site-library --timings VanillaICE_1.66.0.tar.gz StartedAt: 2024-10-17 06:12:30 -0400 (Thu, 17 Oct 2024) EndedAt: 2024-10-17 06:17:13 -0400 (Thu, 17 Oct 2024) EllapsedTime: 282.6 seconds RetCode: 0 Status: OK CheckDir: VanillaICE.Rcheck Warnings: 0