Package: VariantAnnotation Version: 1.50.0 Command: E:\biocbuild\bbs-3.19-bioc\R\bin\R.exe CMD check --no-multiarch --install=check:VariantAnnotation.install-out.txt --library=E:\biocbuild\bbs-3.19-bioc\R\library --no-vignettes --timings VariantAnnotation_1.50.0.tar.gz StartedAt: 2024-10-17 06:48:40 -0400 (Thu, 17 Oct 2024) EndedAt: 2024-10-17 06:58:43 -0400 (Thu, 17 Oct 2024) EllapsedTime: 602.8 seconds RetCode: 1 Status: ERROR CheckDir: VariantAnnotation.Rcheck Warnings: NA