Package: VariantTools Version: 1.46.0 Command: rm -rf VariantTools.buildbin-libdir && mkdir VariantTools.buildbin-libdir && /Users/biocbuild/BBS/utils/build-universal.sh VariantTools_1.46.0.tar.gz /Library/Frameworks/R.framework/Resources/bin/R VariantTools.buildbin-libdir StartedAt: 2024-06-11 13:40:47 -0400 (Tue, 11 Jun 2024) EndedAt: 2024-06-11 13:41:57 -0400 (Tue, 11 Jun 2024) EllapsedTime: 70.2 seconds RetCode: 0 Status: OK PackageFile: VariantTools_1.46.0.tgz PackageFileSize: 6.291 MiB