Package: VariantTools Version: 1.46.0 Command: /home/biocbuild/R/R-beta-2024-04-15_r86425/bin/R CMD build --keep-empty-dirs --no-resave-data VariantTools StartedAt: 2024-05-09 04:18:07 -0000 (Thu, 09 May 2024) EndedAt: 2024-05-09 04:19:41 -0000 (Thu, 09 May 2024) EllapsedTime: 94.1 seconds RetCode: 0 Status: OK PackageFile: VariantTools_1.46.0.tar.gz PackageFileSize: 5.96 MiB