Package: VariantTools Version: 1.46.0 Command: /home/biocbuild/R/R-beta-2024-04-15_r86425/bin/R CMD check --install=check:VariantTools.install-out.txt --library=/home/biocbuild/R/R-beta-2024-04-15_r86425/site-library --no-vignettes --timings VariantTools_1.46.0.tar.gz StartedAt: 2024-05-08 13:01:39 -0000 (Wed, 08 May 2024) EndedAt: 2024-05-08 13:09:12 -0000 (Wed, 08 May 2024) EllapsedTime: 452.8 seconds RetCode: 0 Status: WARNINGS CheckDir: VariantTools.Rcheck Warnings: 2