Package: VariantTools Version: 1.46.0 Command: rm -rf VariantTools.buildbin-libdir && mkdir VariantTools.buildbin-libdir && /Users/biocbuild/BBS/utils/build-universal.sh VariantTools_1.46.0.tar.gz /Library/Frameworks/R.framework/Resources/bin/R VariantTools.buildbin-libdir StartedAt: 2024-10-17 17:25:21 -0400 (Thu, 17 Oct 2024) EndedAt: 2024-10-17 17:27:04 -0400 (Thu, 17 Oct 2024) EllapsedTime: 102.6 seconds RetCode: 0 Status: OK PackageFile: VariantTools_1.46.0.tgz PackageFileSize: 6.286 MiB