Package: VariantTools Version: 1.46.0 Command: /home/biocbuild/bbs-3.19-bioc/R/bin/R CMD build --keep-empty-dirs --no-resave-data VariantTools StartedAt: 2024-10-16 21:18:42 -0400 (Wed, 16 Oct 2024) EndedAt: 2024-10-16 21:20:01 -0400 (Wed, 16 Oct 2024) EllapsedTime: 79.2 seconds RetCode: 0 Status: OK PackageFile: VariantTools_1.46.0.tar.gz PackageFileSize: 5.968 MiB