Package: VariantTools Version: 1.46.0 Command: /home/biocbuild/bbs-3.19-bioc/R/bin/R CMD check --install=check:VariantTools.install-out.txt --library=/home/biocbuild/bbs-3.19-bioc/R/site-library --timings VariantTools_1.46.0.tar.gz StartedAt: 2024-10-17 06:14:07 -0400 (Thu, 17 Oct 2024) EndedAt: 2024-10-17 06:20:20 -0400 (Thu, 17 Oct 2024) EllapsedTime: 372.8 seconds RetCode: 0 Status: WARNINGS CheckDir: VariantTools.Rcheck Warnings: 2