Package: VegaMC Version: 3.42.0 Command: /Library/Frameworks/R.framework/Resources/bin/R CMD check --install=check:VegaMC.install-out.txt --library=/Library/Frameworks/R.framework/Resources/library --no-vignettes --timings VegaMC_3.42.0.tar.gz StartedAt: 2024-06-11 09:27:22 -0400 (Tue, 11 Jun 2024) EndedAt: 2024-06-11 09:30:02 -0400 (Tue, 11 Jun 2024) EllapsedTime: 160.4 seconds RetCode: 0 Status: WARNINGS CheckDir: VegaMC.Rcheck Warnings: 2