Package: VegaMC Version: 3.42.0 Command: rm -rf VegaMC.buildbin-libdir && mkdir VegaMC.buildbin-libdir && E:\biocbuild\bbs-3.19-bioc\R\bin\R.exe CMD INSTALL --build --library=VegaMC.buildbin-libdir VegaMC_3.42.0.tar.gz StartedAt: 2024-10-17 08:50:16 -0400 (Thu, 17 Oct 2024) EndedAt: 2024-10-17 08:50:45 -0400 (Thu, 17 Oct 2024) EllapsedTime: 29.7 seconds RetCode: 0 Status: OK PackageFile: VegaMC_3.42.0.zip PackageFileSize: 1.708 MiB