Package: VegaMC Version: 3.42.0 Command: E:\biocbuild\bbs-3.19-bioc\R\bin\R.exe CMD INSTALL VegaMC StartedAt: 2024-10-16 16:38:14 -0400 (Wed, 16 Oct 2024) EndedAt: 2024-10-16 16:38:36 -0400 (Wed, 16 Oct 2024) EllapsedTime: 21.8 seconds RetCode: 0 Status: OK