Package: VennDetail Version: 1.20.0 Command: rm -rf VennDetail.buildbin-libdir && mkdir VennDetail.buildbin-libdir && /Users/biocbuild/BBS/utils/build-universal.sh VennDetail_1.20.0.tar.gz /Library/Frameworks/R.framework/Resources/bin/R VennDetail.buildbin-libdir StartedAt: 2024-10-15 20:48:12 -0400 (Tue, 15 Oct 2024) EndedAt: 2024-10-15 20:48:21 -0400 (Tue, 15 Oct 2024) EllapsedTime: 8.9 seconds RetCode: 0 Status: OK PackageFile: VennDetail_1.20.0.tgz PackageFileSize: 507.9 KiB