Package: VennDetail Version: 1.20.0 Command: /Library/Frameworks/R.framework/Resources/bin/R CMD build --keep-empty-dirs --no-resave-data VennDetail StartedAt: 2024-06-09 18:31:24 -0400 (Sun, 09 Jun 2024) EndedAt: 2024-06-09 18:31:39 -0400 (Sun, 09 Jun 2024) EllapsedTime: 14.7 seconds RetCode: 0 Status: OK PackageFile: VennDetail_1.20.0.tar.gz PackageFileSize: 526.3 KiB