Package: VennDetail Version: 1.20.0 Command: rm -rf VennDetail.buildbin-libdir && mkdir VennDetail.buildbin-libdir && /Users/biocbuild/BBS/utils/build-universal.sh VennDetail_1.20.0.tar.gz /Library/Frameworks/R.framework/Resources/bin/R VennDetail.buildbin-libdir StartedAt: 2024-10-17 17:25:37 -0400 (Thu, 17 Oct 2024) EndedAt: 2024-10-17 17:25:55 -0400 (Thu, 17 Oct 2024) EllapsedTime: 18.2 seconds RetCode: 0 Status: OK PackageFile: VennDetail_1.20.0.tgz PackageFileSize: 507.4 KiB