Package: VennDetail Version: 1.20.0 Command: /home/biocbuild/bbs-3.19-bioc/R/bin/R CMD build --keep-empty-dirs --no-resave-data VennDetail StartedAt: 2024-10-16 21:19:41 -0400 (Wed, 16 Oct 2024) EndedAt: 2024-10-16 21:19:52 -0400 (Wed, 16 Oct 2024) EllapsedTime: 11.0 seconds RetCode: 0 Status: OK PackageFile: VennDetail_1.20.0.tar.gz PackageFileSize: 470.5 KiB