Package: VennDetail Version: 1.20.0 Command: rm -rf VennDetail.buildbin-libdir && mkdir VennDetail.buildbin-libdir && F:\biocbuild\bbs-3.19-bioc\R\bin\R.exe CMD INSTALL --build --library=VennDetail.buildbin-libdir VennDetail_1.20.0.tar.gz StartedAt: 2024-06-27 09:05:45 -0400 (Thu, 27 Jun 2024) EndedAt: 2024-06-27 09:06:01 -0400 (Thu, 27 Jun 2024) EllapsedTime: 16.5 seconds RetCode: 0 Status: OK PackageFile: VennDetail_1.20.0.zip PackageFileSize: 318.4 KiB