Package: VennDetail Version: 1.20.0 Command: rm -rf VennDetail.buildbin-libdir && mkdir VennDetail.buildbin-libdir && E:\biocbuild\bbs-3.19-bioc\R\bin\R.exe CMD INSTALL --build --library=VennDetail.buildbin-libdir VennDetail_1.20.0.tar.gz StartedAt: 2024-10-17 08:50:19 -0400 (Thu, 17 Oct 2024) EndedAt: 2024-10-17 08:50:42 -0400 (Thu, 17 Oct 2024) EllapsedTime: 23.1 seconds RetCode: 0 Status: OK PackageFile: VennDetail_1.20.0.zip PackageFileSize: 318.1 KiB