Package: VennDetail Version: 1.20.0 Command: chmod a+r VennDetail -R && E:\biocbuild\bbs-3.19-bioc\R\bin\R.exe CMD build --keep-empty-dirs --no-resave-data VennDetail StartedAt: 2024-10-16 22:29:58 -0400 (Wed, 16 Oct 2024) EndedAt: 2024-10-16 22:30:18 -0400 (Wed, 16 Oct 2024) EllapsedTime: 19.5 seconds RetCode: 0 Status: OK PackageFile: VennDetail_1.20.0.tar.gz PackageFileSize: 336.8 KiB