Package: ViSEAGO Version: 1.18.0 Command: /Library/Frameworks/R.framework/Resources/bin/R CMD check --install=check:ViSEAGO.install-out.txt --library=/Library/Frameworks/R.framework/Resources/library --no-vignettes --timings ViSEAGO_1.18.0.tar.gz StartedAt: 2024-10-18 16:30:14 -0400 (Fri, 18 Oct 2024) EndedAt: 2024-10-18 16:33:54 -0400 (Fri, 18 Oct 2024) EllapsedTime: 220.1 seconds RetCode: 0 Status: WARNINGS CheckDir: ViSEAGO.Rcheck Warnings: 4