Package: ViSEAGO Version: 1.18.0 Command: /Library/Frameworks/R.framework/Resources/bin/R CMD build --keep-empty-dirs --no-resave-data ViSEAGO StartedAt: 2024-06-09 18:31:39 -0400 (Sun, 09 Jun 2024) EndedAt: 2024-06-09 18:32:49 -0400 (Sun, 09 Jun 2024) EllapsedTime: 69.7 seconds RetCode: 0 Status: OK PackageFile: ViSEAGO_1.18.0.tar.gz PackageFileSize: 8.621 MiB