Package: ViSEAGO Version: 1.18.0 Command: /Library/Frameworks/R.framework/Resources/bin/R CMD check --install=check:ViSEAGO.install-out.txt --library=/Library/Frameworks/R.framework/Resources/library --no-vignettes --timings ViSEAGO_1.18.0.tar.gz StartedAt: 2024-10-17 14:58:50 -0400 (Thu, 17 Oct 2024) EndedAt: 2024-10-17 15:06:08 -0400 (Thu, 17 Oct 2024) EllapsedTime: 437.9 seconds RetCode: 0 Status: WARNINGS CheckDir: ViSEAGO.Rcheck Warnings: 4