Package: ViSEAGO Version: 1.18.0 Command: /home/biocbuild/bbs-3.19-bioc/R/bin/R CMD build --keep-empty-dirs --no-resave-data ViSEAGO StartedAt: 2024-10-16 21:19:55 -0400 (Wed, 16 Oct 2024) EndedAt: 2024-10-16 21:20:44 -0400 (Wed, 16 Oct 2024) EllapsedTime: 49.1 seconds RetCode: 0 Status: OK PackageFile: ViSEAGO_1.18.0.tar.gz PackageFileSize: 8.621 MiB