Package: VisiumIO Version: 1.0.0 Command: /Library/Frameworks/R.framework/Resources/bin/R CMD build --keep-empty-dirs --no-resave-data VisiumIO StartedAt: 2024-06-10 06:30:36 -0400 (Mon, 10 Jun 2024) EndedAt: 2024-06-10 06:31:36 -0400 (Mon, 10 Jun 2024) EllapsedTime: 59.2 seconds RetCode: 0 Status: OK PackageFile: VisiumIO_1.0.0.tar.gz PackageFileSize: 228.3 KiB