Package: VisiumIO Version: 1.0.0 Command: /Library/Frameworks/R.framework/Resources/bin/R CMD check --install=check:VisiumIO.install-out.txt --library=/Library/Frameworks/R.framework/Resources/library --no-vignettes --timings VisiumIO_1.0.0.tar.gz StartedAt: 2024-06-11 09:29:59 -0400 (Tue, 11 Jun 2024) EndedAt: 2024-06-11 09:34:43 -0400 (Tue, 11 Jun 2024) EllapsedTime: 283.9 seconds RetCode: 0 Status: OK CheckDir: VisiumIO.Rcheck Warnings: 0