Package: VisiumIO Version: 1.0.0 Command: /home/biocbuild/R/R-beta-2024-04-15_r86425/bin/R CMD build --keep-empty-dirs --no-resave-data VisiumIO StartedAt: 2024-05-09 04:19:38 -0000 (Thu, 09 May 2024) EndedAt: 2024-05-09 04:20:29 -0000 (Thu, 09 May 2024) EllapsedTime: 51.1 seconds RetCode: 0 Status: OK PackageFile: VisiumIO_1.0.0.tar.gz PackageFileSize: 253.1 KiB