Package: VisiumIO Version: 1.0.0 Command: /home/biocbuild/R/R-beta-2024-04-15_r86425/bin/R CMD check --install=check:VisiumIO.install-out.txt --library=/home/biocbuild/R/R-beta-2024-04-15_r86425/site-library --no-vignettes --timings VisiumIO_1.0.0.tar.gz StartedAt: 2024-05-08 13:05:46 -0000 (Wed, 08 May 2024) EndedAt: 2024-05-08 13:09:36 -0000 (Wed, 08 May 2024) EllapsedTime: 229.4 seconds RetCode: 0 Status: OK CheckDir: VisiumIO.Rcheck Warnings: 0