Package: VisiumIO Version: 1.0.0 Command: /Library/Frameworks/R.framework/Resources/bin/R CMD INSTALL VisiumIO StartedAt: 2024-06-09 15:12:45 -0400 (Sun, 09 Jun 2024) EndedAt: 2024-06-09 15:13:21 -0400 (Sun, 09 Jun 2024) EllapsedTime: 35.8 seconds RetCode: 0 Status: OK