Package: VisiumIO Version: 1.0.0 Command: rm -rf VisiumIO.buildbin-libdir && mkdir VisiumIO.buildbin-libdir && F:\biocbuild\bbs-3.19-bioc\R\bin\R.exe CMD INSTALL --build --library=VisiumIO.buildbin-libdir VisiumIO_1.0.0.tar.gz StartedAt: 2024-06-27 09:05:55 -0400 (Thu, 27 Jun 2024) EndedAt: 2024-06-27 09:06:32 -0400 (Thu, 27 Jun 2024) EllapsedTime: 36.8 seconds RetCode: 0 Status: OK PackageFile: VisiumIO_1.0.0.zip PackageFileSize: 284.7 KiB