Package: VisiumIO Version: 1.0.0 Command: chmod a+r VisiumIO -R && F:\biocbuild\bbs-3.19-bioc\R\bin\R.exe CMD build --keep-empty-dirs --no-resave-data VisiumIO StartedAt: 2024-06-26 22:33:11 -0400 (Wed, 26 Jun 2024) EndedAt: 2024-06-26 22:34:06 -0400 (Wed, 26 Jun 2024) EllapsedTime: 54.4 seconds RetCode: 0 Status: OK PackageFile: VisiumIO_1.0.0.tar.gz PackageFileSize: 228.4 KiB