Package: Voyager Version: 1.6.0 Command: /Library/Frameworks/R.framework/Resources/bin/R CMD check --install=check:Voyager.install-out.txt --library=/Library/Frameworks/R.framework/Resources/library --no-vignettes --timings Voyager_1.6.0.tar.gz StartedAt: 2024-10-17 15:02:13 -0400 (Thu, 17 Oct 2024) EndedAt: 2024-10-17 15:22:40 -0400 (Thu, 17 Oct 2024) EllapsedTime: 1227.2 seconds RetCode: 1 Status: ERROR CheckDir: Voyager.Rcheck Warnings: NA