Package: Voyager Version: 1.6.0 Command: chmod a+r Voyager -R && E:\biocbuild\bbs-3.19-bioc\R\bin\R.exe CMD build --keep-empty-dirs --no-resave-data Voyager StartedAt: 2024-10-16 22:30:24 -0400 (Wed, 16 Oct 2024) EndedAt: 2024-10-16 22:32:23 -0400 (Wed, 16 Oct 2024) EllapsedTime: 119.5 seconds RetCode: 0 Status: OK PackageFile: Voyager_1.6.0.tar.gz PackageFileSize: 2.795 MiB