Package: Wrench Version: 1.22.0 Command: rm -rf Wrench.buildbin-libdir && mkdir Wrench.buildbin-libdir && /Users/biocbuild/BBS/utils/build-universal.sh Wrench_1.22.0.tar.gz /Library/Frameworks/R.framework/Resources/bin/R Wrench.buildbin-libdir StartedAt: 2024-10-17 17:27:05 -0400 (Thu, 17 Oct 2024) EndedAt: 2024-10-17 17:27:15 -0400 (Thu, 17 Oct 2024) EllapsedTime: 9.6 seconds RetCode: 0 Status: OK PackageFile: Wrench_1.22.0.tgz PackageFileSize: 265.3 KiB