Package: Wrench Version: 1.22.0 Command: /home/biocbuild/bbs-3.19-bioc/R/bin/R CMD build --keep-empty-dirs --no-resave-data Wrench StartedAt: 2024-10-16 21:22:23 -0400 (Wed, 16 Oct 2024) EndedAt: 2024-10-16 21:23:05 -0400 (Wed, 16 Oct 2024) EllapsedTime: 42.1 seconds RetCode: 0 Status: OK PackageFile: Wrench_1.22.0.tar.gz PackageFileSize: 224.9 KiB