Package: Wrench Version: 1.22.0 Command: rm -rf Wrench.buildbin-libdir && mkdir Wrench.buildbin-libdir && E:\biocbuild\bbs-3.19-bioc\R\bin\R.exe CMD INSTALL --build --library=Wrench.buildbin-libdir Wrench_1.22.0.tar.gz StartedAt: 2024-10-17 08:51:07 -0400 (Thu, 17 Oct 2024) EndedAt: 2024-10-17 08:51:21 -0400 (Thu, 17 Oct 2024) EllapsedTime: 13.8 seconds RetCode: 0 Status: OK PackageFile: Wrench_1.22.0.zip PackageFileSize: 269.3 KiB