Package: XDE Version: 2.50.0 Command: rm -rf XDE.buildbin-libdir && mkdir XDE.buildbin-libdir && /Users/biocbuild/BBS/utils/build-universal.sh XDE_2.50.0.tar.gz /Library/Frameworks/R.framework/Resources/bin/R XDE.buildbin-libdir StartedAt: 2024-10-15 20:50:25 -0400 (Tue, 15 Oct 2024) EndedAt: 2024-10-15 20:51:40 -0400 (Tue, 15 Oct 2024) EllapsedTime: 75.4 seconds RetCode: 0 Status: OK PackageFile: XDE_2.50.0.tgz PackageFileSize: 2.185 MiB