Package: XDE Version: 2.50.0 Command: /Library/Frameworks/R.framework/Resources/bin/R CMD check --install=check:XDE.install-out.txt --library=/Library/Frameworks/R.framework/Resources/library --no-vignettes --timings XDE_2.50.0.tar.gz StartedAt: 2024-06-11 09:43:46 -0400 (Tue, 11 Jun 2024) EndedAt: 2024-06-11 09:48:33 -0400 (Tue, 11 Jun 2024) EllapsedTime: 287.1 seconds RetCode: 0 Status: WARNINGS CheckDir: XDE.Rcheck Warnings: 1