Package: XDE Version: 2.50.0 Command: chmod a+r XDE -R && F:\biocbuild\bbs-3.19-bioc\R\bin\R.exe CMD build --keep-empty-dirs --no-resave-data XDE StartedAt: 2024-06-26 22:36:29 -0400 (Wed, 26 Jun 2024) EndedAt: 2024-06-26 22:38:21 -0400 (Wed, 26 Jun 2024) EllapsedTime: 112.0 seconds RetCode: 0 Status: OK PackageFile: XDE_2.50.0.tar.gz PackageFileSize: 1.086 MiB