Package: XNAString Version: 1.12.0 Command: rm -rf XNAString.buildbin-libdir && mkdir XNAString.buildbin-libdir && /Users/biocbuild/BBS/utils/build-universal.sh XNAString_1.12.0.tar.gz /Library/Frameworks/R.framework/Resources/bin/R XNAString.buildbin-libdir StartedAt: 2024-06-11 13:44:31 -0400 (Tue, 11 Jun 2024) EndedAt: 2024-06-11 13:50:34 -0400 (Tue, 11 Jun 2024) EllapsedTime: 363.4 seconds RetCode: 0 Status: OK PackageFile: XNAString_1.12.0.tgz PackageFileSize: 1.648 MiB