Package: XNAString Version: 1.12.0 Command: /Library/Frameworks/R.framework/Resources/bin/R CMD INSTALL XNAString StartedAt: 2024-06-09 16:18:20 -0400 (Sun, 09 Jun 2024) EndedAt: 2024-06-09 16:25:05 -0400 (Sun, 09 Jun 2024) EllapsedTime: 405.0 seconds RetCode: 0 Status: OK