Package: XNAString Version: 1.12.0 Command: /Library/Frameworks/R.framework/Resources/bin/R CMD check --install=check:XNAString.install-out.txt --library=/Library/Frameworks/R.framework/Resources/library --no-vignettes --timings XNAString_1.12.0.tar.gz StartedAt: 2024-06-09 23:50:11 -0400 (Sun, 09 Jun 2024) EndedAt: 2024-06-09 23:55:19 -0400 (Sun, 09 Jun 2024) EllapsedTime: 307.3 seconds RetCode: 0 Status: WARNINGS CheckDir: XNAString.Rcheck Warnings: 2