Package: YAPSA Version: 1.30.0 Command: rm -rf YAPSA.buildbin-libdir && mkdir YAPSA.buildbin-libdir && /Users/biocbuild/BBS/utils/build-universal.sh YAPSA_1.30.0.tar.gz /Library/Frameworks/R.framework/Resources/bin/R YAPSA.buildbin-libdir StartedAt: 2024-10-15 20:50:57 -0400 (Tue, 15 Oct 2024) EndedAt: 2024-10-15 20:52:28 -0400 (Tue, 15 Oct 2024) EllapsedTime: 90.2 seconds RetCode: 0 Status: OK PackageFile: YAPSA_1.30.0.tgz PackageFileSize: 4.411 MiB