Package: ZygosityPredictor Version: 1.4.0 Command: /home/biocbuild/R/R-beta-2024-04-15_r86425/bin/R CMD build --keep-empty-dirs --no-resave-data ZygosityPredictor StartedAt: 2024-05-09 04:25:42 -0000 (Thu, 09 May 2024) EndedAt: 2024-05-09 04:27:09 -0000 (Thu, 09 May 2024) EllapsedTime: 87.0 seconds RetCode: 0 Status: OK PackageFile: ZygosityPredictor_1.4.0.tar.gz PackageFileSize: 848 KiB