Package: ZygosityPredictor Version: 1.4.0 Command: /home/biocbuild/R/R-beta-2024-04-15_r86425/bin/R CMD check --install=check:ZygosityPredictor.install-out.txt --library=/home/biocbuild/R/R-beta-2024-04-15_r86425/site-library --no-vignettes --timings ZygosityPredictor_1.4.0.tar.gz StartedAt: 2024-05-08 13:12:25 -0000 (Wed, 08 May 2024) EndedAt: 2024-05-08 13:17:58 -0000 (Wed, 08 May 2024) EllapsedTime: 333.1 seconds RetCode: 0 Status: OK CheckDir: ZygosityPredictor.Rcheck Warnings: 0