Package: a4 Version: 1.52.0 Command: rm -rf a4.buildbin-libdir && mkdir a4.buildbin-libdir && /Users/biocbuild/BBS/utils/build-universal.sh a4_1.52.0.tar.gz /Library/Frameworks/R.framework/Resources/bin/R a4.buildbin-libdir StartedAt: 2024-10-18 17:10:58 -0400 (Fri, 18 Oct 2024) EndedAt: 2024-10-18 17:11:24 -0400 (Fri, 18 Oct 2024) EllapsedTime: 26.0 seconds RetCode: 0 Status: OK PackageFile: a4_1.52.0.tgz PackageFileSize: 1.185 MiB