Package: a4 Version: 1.52.0 Command: /Library/Frameworks/R.framework/Resources/bin/R CMD build --keep-empty-dirs --no-resave-data a4 StartedAt: 2024-10-16 16:58:27 -0400 (Wed, 16 Oct 2024) EndedAt: 2024-10-16 17:03:13 -0400 (Wed, 16 Oct 2024) EllapsedTime: 285.9 seconds RetCode: 0 Status: OK PackageFile: a4_1.52.0.tar.gz PackageFileSize: 1.189 MiB