Package: a4 Version: 1.52.0 Command: rm -rf a4.buildbin-libdir && mkdir a4.buildbin-libdir && F:\biocbuild\bbs-3.19-bioc\R\bin\R.exe CMD INSTALL --build --library=a4.buildbin-libdir a4_1.52.0.tar.gz StartedAt: 2024-06-27 07:47:59 -0400 (Thu, 27 Jun 2024) EndedAt: 2024-06-27 07:48:33 -0400 (Thu, 27 Jun 2024) EllapsedTime: 33.8 seconds RetCode: 0 Status: OK PackageFile: a4_1.52.0.zip PackageFileSize: 1023 KiB