Package: a4 Version: 1.52.0 Command: rm -rf a4.buildbin-libdir && mkdir a4.buildbin-libdir && E:\biocbuild\bbs-3.19-bioc\R\bin\R.exe CMD INSTALL --build --library=a4.buildbin-libdir a4_1.52.0.tar.gz StartedAt: 2024-10-17 07:17:57 -0400 (Thu, 17 Oct 2024) EndedAt: 2024-10-17 07:18:24 -0400 (Thu, 17 Oct 2024) EllapsedTime: 27.1 seconds RetCode: 0 Status: OK PackageFile: a4_1.52.0.zip PackageFileSize: 1023 KiB